BEGIN:VCALENDAR
VERSION:2.0
PRODID:-//ChamberMaster//Event Calendar 2.0//EN
METHOD:PUBLISH
X-PUBLISHED-TTL:P3D
REFRESH-INTERVAL:P3D
CALSCALE:GREGORIAN
BEGIN:VEVENT
DTSTART:20260504T120000Z
DTEND:20260504T130000Z
X-MICROSOFT-CDO-ALLDAYEVENT:FALSE
SUMMARY:Cafe Connections
DESCRIPTION:For National Small Business month\, we are collaborating with local resources for you! Join the Parma Area Chamber of Commerce for local coffee\, connections\, and our trusted local Small Business Banking experts at U.S. Bank. In the beautiful\, BRAND NEW Parma Heights Library.\n\n\n\nSponsored by US Bank.
X-ALT-DESC;FMTTYPE=text/html:<span style="font-size:14px\;"><span style="font-family:verdana\;">For National Small Business month\, we are collaborating with local resources for you! Join the Parma Area Chamber of Commerce for local coffee\, connections\, and our trusted local Small Business Banking experts at U.S. Bank. In the beautiful\, BRAND NEW Parma Heights Library.<br />\n<br />\n<strong>Sponsored by US Bank.</strong></span></span><br />\n&nbsp\;
LOCATION:Cuyahoga County Public Library 6188 Pearl Road | Parma Heights\, Ohio 44130
UID:e.482.2573
SEQUENCE:3
DTSTAMP:20260422T182234Z
URL:https://members.parmaareachamber.org/events/details/cafe-connections-2573
END:VEVENT

END:VCALENDAR
